BEGIN:VCALENDAR
VERSION:2.0
PRODID:-//Soft Interfaces IGERT @ SU - ECPv4.9.4//NONSGML v1.0//EN
CALSCALE:GREGORIAN
METHOD:PUBLISH
X-WR-CALNAME:Soft Interfaces IGERT @ SU
X-ORIGINAL-URL:https://soft-igert.syr.edu
X-WR-CALDESC:Events for Soft Interfaces IGERT @ SU
BEGIN:VTIMEZONE
TZID:"America/New_York"
BEGIN:DAYLIGHT
TZOFFSETFROM:-0500
TZOFFSETTO:-0400
TZNAME:EDT
DTSTART:20150308T070000
END:DAYLIGHT
BEGIN:STANDARD
TZOFFSETFROM:-0400
TZOFFSETTO:-0500
TZNAME:EST
DTSTART:20151101T060000
END:STANDARD
END:VTIMEZONE
BEGIN:VEVENT
DTSTART;TZID="America/New_York":20151026T120000
DTEND;TZID="America/New_York":20151026T130000
DTSTAMP:20260422T185937
CREATED:20150824T152927Z
LAST-MODIFIED:20150824T152927Z
UID:1483-1445860800-1445864400@soft-igert.syr.edu
SUMMARY:Biology Seminar Series
DESCRIPTION:MONDAY\, OCTOBER 26\, 2015\nSpeaker:  Dr. Robert Bagchi\, University of Connecticut\nPresentation Title:  TBA\nHost:  Dr. Jason Fridley \nRefreshments will be served 30 minutes prior to start of event. \nDirections to the Life Sciences Complex (LSC):  view map \n
URL:https://soft-igert.syr.edu/event/biology-seminar-series-2/
LOCATION:the Lundgren Room (106 Life Sciences Complex)
END:VEVENT
END:VCALENDAR