BEGIN:VCALENDAR
VERSION:2.0
PRODID:-//Soft Interfaces IGERT @ SU - ECPv4.9.4//NONSGML v1.0//EN
CALSCALE:GREGORIAN
METHOD:PUBLISH
X-WR-CALNAME:Soft Interfaces IGERT @ SU
X-ORIGINAL-URL:https://soft-igert.syr.edu
X-WR-CALDESC:Events for Soft Interfaces IGERT @ SU
BEGIN:VTIMEZONE
TZID:"America/New_York"
BEGIN:DAYLIGHT
TZOFFSETFROM:-0500
TZOFFSETTO:-0400
TZNAME:EDT
DTSTART:20150308T070000
END:DAYLIGHT
BEGIN:STANDARD
TZOFFSETFROM:-0400
TZOFFSETTO:-0500
TZNAME:EST
DTSTART:20151101T060000
END:STANDARD
END:VTIMEZONE
BEGIN:VEVENT
DTSTART;TZID="America/New_York":20150921T120000
DTEND;TZID="America/New_York":20150921T130000
DTSTAMP:20260422T183145
CREATED:20150824T152411Z
LAST-MODIFIED:20150824T152411Z
UID:1481-1442836800-1442840400@soft-igert.syr.edu
SUMMARY:Biology Seminar Series
DESCRIPTION:MONDAY\, SEPTEMBER 21\, 2015\nSpeaker:  Dr. Melissa Pepling\, Associate Professor\, Syracuse University Department of Biology\nPresentation Title:  Mechanisms Regulating Oocyte Development and Primordial Follicle Formation\nHost:  Dr. John Belote \nhttp://biology.syr.edu/news/map.html \n
URL:https://soft-igert.syr.edu/event/biology-seminar-series/
LOCATION:the Lundgren Room (106 Life Sciences Complex)
CATEGORIES:Biology
END:VEVENT
END:VCALENDAR