BEGIN:VCALENDAR
VERSION:2.0
PRODID:-//Soft Interfaces IGERT @ SU - ECPv4.9.4//NONSGML v1.0//EN
CALSCALE:GREGORIAN
METHOD:PUBLISH
X-WR-CALNAME:Soft Interfaces IGERT @ SU
X-ORIGINAL-URL:https://soft-igert.syr.edu
X-WR-CALDESC:Events for Soft Interfaces IGERT @ SU
BEGIN:VTIMEZONE
TZID:"America/New_York"
BEGIN:DAYLIGHT
TZOFFSETFROM:-0500
TZOFFSETTO:-0400
TZNAME:EDT
DTSTART:20150308T070000
END:DAYLIGHT
BEGIN:STANDARD
TZOFFSETFROM:-0400
TZOFFSETTO:-0500
TZNAME:EST
DTSTART:20151101T060000
END:STANDARD
END:VTIMEZONE
BEGIN:VEVENT
DTSTART;TZID="America/New_York":20151006T160000
DTEND;TZID="America/New_York":20151006T170000
DTSTAMP:20260423T005232
CREATED:20150805T160917Z
LAST-MODIFIED:20150805T161038Z
UID:1468-1444147200-1444150800@soft-igert.syr.edu
SUMMARY:Chemistry Seminar Series
DESCRIPTION:Bryan Shaw\, Baylor University \nReception 3:45 pm. \n
URL:https://soft-igert.syr.edu/event/chemistry-seminar-series-5/
LOCATION:CST room 1-019
CATEGORIES:Chemistry
END:VEVENT
END:VCALENDAR