BEGIN:VCALENDAR
VERSION:2.0
PRODID:-//Soft Interfaces IGERT @ SU - ECPv4.9.4//NONSGML v1.0//EN
CALSCALE:GREGORIAN
METHOD:PUBLISH
X-WR-CALNAME:Soft Interfaces IGERT @ SU
X-ORIGINAL-URL:https://soft-igert.syr.edu
X-WR-CALDESC:Events for Soft Interfaces IGERT @ SU
BEGIN:VTIMEZONE
TZID:"America/New_York"
BEGIN:DAYLIGHT
TZOFFSETFROM:-0500
TZOFFSETTO:-0400
TZNAME:EDT
DTSTART:20160313T070000
END:DAYLIGHT
BEGIN:STANDARD
TZOFFSETFROM:-0400
TZOFFSETTO:-0500
TZNAME:EST
DTSTART:20161106T060000
END:STANDARD
END:VTIMEZONE
BEGIN:VEVENT
DTSTART;TZID="America/New_York":20160328T120000
DTEND;TZID="America/New_York":20160328T130000
DTSTAMP:20260423T031431
CREATED:20160128T204238Z
LAST-MODIFIED:20160128T204238Z
UID:1613-1459166400-1459170000@soft-igert.syr.edu
SUMMARY:Dr. Holly Root-Gutteridge\, Syracuse Biology - Seminar
DESCRIPTION:MONDAY\, MARCH 28\, 2016\nSpeaker:  Dr. Holly Root-Gutteridge\, Syracuse Biology\nPresentation Title:  TBA\nHost:  Dr. Susan Parks \nAll seminars are scheduled for Mondays at 12:00 noon in the Lundgren Room (106 Life Sciences Complex)\n(unless otherwise noted) \nRefreshments will be served 30 minutes prior to start of event.\nDirections to the Life Sciences Complex (LSC):  view map \n
URL:https://soft-igert.syr.edu/event/dr-holly-root-gutteridge-syracuse-biology-seminar/
CATEGORIES:Biology
END:VEVENT
END:VCALENDAR