BEGIN:VCALENDAR
VERSION:2.0
PRODID:-//Soft Interfaces IGERT @ SU - ECPv4.9.4//NONSGML v1.0//EN
CALSCALE:GREGORIAN
METHOD:PUBLISH
X-WR-CALNAME:Soft Interfaces IGERT @ SU
X-ORIGINAL-URL:https://soft-igert.syr.edu
X-WR-CALDESC:Events for Soft Interfaces IGERT @ SU
BEGIN:VTIMEZONE
TZID:"America/New_York"
BEGIN:DAYLIGHT
TZOFFSETFROM:-0500
TZOFFSETTO:-0400
TZNAME:EDT
DTSTART:20160313T070000
END:DAYLIGHT
BEGIN:STANDARD
TZOFFSETFROM:-0400
TZOFFSETTO:-0500
TZNAME:EST
DTSTART:20161106T060000
END:STANDARD
END:VTIMEZONE
BEGIN:VEVENT
DTSTART;TZID="America/New_York":20160304T130000
DTEND;TZID="America/New_York":20160304T150000
DTSTAMP:20260422T025010
CREATED:20160128T201414Z
LAST-MODIFIED:20160128T201512Z
UID:1598-1457096400-1457103600@soft-igert.syr.edu
SUMMARY:Jeremy Gilbert - Stevenson Lecture Series
DESCRIPTION:Stevenson Biomaterials Lecture Series\nMar 4\, 2016\nPresented by: Jeremy L. Gilbert \nHeld at: Hall of Languages\, Room 500 – 1:00 pm [Reception to follow] ***NOTE special time***\nHost: Cristina Marchetti \n\n\n The Stevenson Biomaterials Lecture Series was established in 2007 thanks to the generous support of Trustee Ann McOmber Stevenson (Nursing ‘52) and the late Trustee Emeritus Milton F. Stevenson III (Chemical Engineering ’53). Each semester\, the series brings pioneering biomaterials researchers to the Syracuse University campus. Presenters are selected based on their leading roles in biomaterials research\, and are asked to speak on their latest endeavors. In addition\, Stevenson lecturers visit with faculty and students to exchange ideas\, build bridges\, and become familiar with the broad range of biomaterials activities at Syracuse University. \n\n\n\n\n\n——————————————— \nContact Information:\nYudaisy Salomon Sargenton\, administration questions\nyssargen@syr.edu\n315-443-3901\n\n\n\n  \n
URL:https://soft-igert.syr.edu/event/jeremy-gilbert-stevenson-lecture-series/
CATEGORIES:SBI
END:VEVENT
END:VCALENDAR