BEGIN:VCALENDAR
VERSION:2.0
PRODID:-//Soft Interfaces IGERT @ SU - ECPv4.9.4//NONSGML v1.0//EN
CALSCALE:GREGORIAN
METHOD:PUBLISH
X-WR-CALNAME:Soft Interfaces IGERT @ SU
X-ORIGINAL-URL:https://soft-igert.syr.edu
X-WR-CALDESC:Events for Soft Interfaces IGERT @ SU
BEGIN:VTIMEZONE
TZID:"America/New_York"
BEGIN:DAYLIGHT
TZOFFSETFROM:-0500
TZOFFSETTO:-0400
TZNAME:EDT
DTSTART:20150308T070000
END:DAYLIGHT
BEGIN:STANDARD
TZOFFSETFROM:-0400
TZOFFSETTO:-0500
TZNAME:EST
DTSTART:20151101T060000
END:STANDARD
END:VTIMEZONE
BEGIN:VEVENT
DTSTART;TZID="America/New_York":20151120T123000
DTEND;TZID="America/New_York":20151120T140000
DTSTAMP:20260422T004733
CREATED:20150831T185438Z
LAST-MODIFIED:20150831T185438Z
UID:1543-1448022600-1448028000@soft-igert.syr.edu
SUMMARY:Physics Seminar:  Fundamental Theory
DESCRIPTION:Title TBA\nNov 20\, 2015\nPresented by: Eder Izaguirre\nPerimeter Institute for Theoretical Physics \nHeld at: Room 208\, 12:30\nHost: Jay Hubisz\, jhubisz@syr.edu\, 315-443-2653 \n\nAbstract TBA \n\n\n\n\n\nContact Information:\nDavid Schaich\, Series Director\ndaschaich@gmail.com\n315-415-3277\n\n\n\n
URL:https://soft-igert.syr.edu/event/physics-seminar-fundamental-theory-3/
LOCATION:202/204 Physics Building
CATEGORIES:Physics
END:VEVENT
END:VCALENDAR